BEGIN:VCALENDAR
VERSION:2.0
PRODID:-//neconnectedyouth.org//NONSGML kigkonsult.se iCalcreator 2.30.10//
CALSCALE:GREGORIAN
METHOD:PUBLISH
UID:3917587f-0822-46ca-abca-8f35a07dbdb2
X-WR-CALDESC:The evening will include a conversation with Sixto Cancel and 
 Paris Hilton. Then\, there will be a Lived Experience Table Talk that cent
 ers the voices of Sixto Cancel\, Caroline Cole\, Bobbi Taylor\, Uvea Spezz
 a Lopin\, Alain Datcher and others who have witnessed the harms of institu
 tionalization in foster care and other settings. This Talk will be moderat
 ed by Steve Clemons\, Editor-at-Large\, The Hill. The evening will include
  remarks from the Annie E. Casey Foundation about where we go from here.\n
  \nCan’t watch live? The event will be recorded and available for viewing 
 immediately following the event.\n
X-WR-RELCALID:6b2867d891102a21397a2f143d781ce9
X-WR-TIMEZONE:America/Chicago
BEGIN:VTIMEZONE
TZID:America/Chicago
BEGIN:STANDARD
TZNAME:CST
DTSTART:20201101T020000
TZOFFSETFROM:-0500
TZOFFSETTO:-0600
RDATE:20211107T020000
RDATE:20221106T020000
END:STANDARD
BEGIN:DAYLIGHT
TZNAME:CDT
DTSTART:20210314T020000
TZOFFSETFROM:-0600
TZOFFSETTO:-0500
RDATE:20220313T020000
RDATE:20230312T020000
END:DAYLIGHT
END:VTIMEZONE
BEGIN:VEVENT
UID:2f60b623-5696-4041-8300-72e7b57a641e
DTSTAMP:20260425T212951Z
DESCRIPTION:The evening will include a conversation with Sixto Cancel and P
 aris Hilton. Then\, there will be a Lived Experience Table Talk that cente
 rs the voices of Sixto Cancel\, Caroline Cole\, Bobbi Taylor\, Uvea Spezza
  Lopin\, Alain Datcher and others who have witnessed the harms of institut
 ionalization in foster care and other settings. This Talk will be moderate
 d by Steve Clemons\, Editor-at-Large\, The Hill. The evening will include 
 remarks from the Annie E. Casey Foundation about where we go from here.\n 
 \nCan’t watch live? The event will be recorded and available for viewing i
 mmediately following the event.\n
DTSTART;TZID=America/Chicago:20211020T171500
DTEND;TZID=America/Chicago:20211020T190000
LOCATION:
SUMMARY:Virtual Evening of Lived Experience Voices on the Harms of Institut
 ionalizing Youth
END:VEVENT
END:VCALENDAR
