BEGIN:VCALENDAR
VERSION:2.0
PRODID:-//neconnectedyouth.org//NONSGML kigkonsult.se iCalcreator 2.30.10//
CALSCALE:GREGORIAN
METHOD:PUBLISH
UID:1b64f0d9-a292-4802-9d74-c886b7ac70cc
X-WR-CALDESC:The Nebraska Youth Probation Council is planning to host a Fal
 l kickoff meeting on October 24 in Lincoln from 1 to 4 p.m. We will provid
 e a stipend to cover transportation\, childcare as well as your participat
 ion. The meeting is open to anyone interested in working on juvenile justi
 ce policy work. During the gathering\, we will get to know each other a bi
 t\, discuss ideas and projects for this group to work on and hopefully hav
 e some fun too. Virtual options are also available.
X-WR-RELCALID:0da18a29688c517b25e79731d9f2cc75
X-WR-TIMEZONE:America/Chicago
BEGIN:VTIMEZONE
TZID:America/Chicago
BEGIN:STANDARD
TZNAME:CST
DTSTART:20201101T020000
TZOFFSETFROM:-0500
TZOFFSETTO:-0600
RDATE:20211107T020000
RDATE:20221106T020000
END:STANDARD
BEGIN:DAYLIGHT
TZNAME:CDT
DTSTART:20210314T020000
TZOFFSETFROM:-0600
TZOFFSETTO:-0500
RDATE:20220313T020000
RDATE:20230312T020000
END:DAYLIGHT
END:VTIMEZONE
BEGIN:VEVENT
UID:fc745914-b572-4bcc-9953-12063fb143d2
DTSTAMP:20260425T213720Z
DESCRIPTION:The Nebraska Youth Probation Council is planning to host a Fall
  kickoff meeting on October 24 in Lincoln from 1 to 4 p.m. We will provide
  a stipend to cover transportation\, childcare as well as your participati
 on. The meeting is open to anyone interested in working on juvenile justic
 e policy work. During the gathering\, we will get to know each other a bit
 \, discuss ideas and projects for this group to work on and hopefully have
  some fun too. Virtual options are also available.
DTSTART;TZID=America/Chicago:20211024T130000
DTEND;TZID=America/Chicago:20211024T160000
LOCATION:Lincoln\, NE
SUMMARY:Youth Probation Council Fall Kick-off
END:VEVENT
END:VCALENDAR
