BEGIN:VCALENDAR
VERSION:2.0
PRODID:-//neconnectedyouth.org//NONSGML kigkonsult.se iCalcreator 2.30.10//
CALSCALE:GREGORIAN
METHOD:PUBLISH
UID:66d7980d-7695-421f-a3fc-35d2e2ec169e
X-WR-CALDESC:Disrupting Traffick is hosting a walk in Lincoln\, Nebraska on
  November 13th at Auld Pavilion in Antelope Park at 10am called The Whole 
 Truth Gathering. \n\nWe invite survivors of sexual violence\, allies\, and
  advocates to shed light on the ramifications of sexual violence in our co
 mmunity and are hoping to have as many people as possible at this event! O
 ur heart behind this walk is to show survivors of sexual violence in our c
 ommunity that they have the support of Lincoln behind them. That collectiv
 ely\, their stories are believed and that whether they've taken the step t
 o speak publicly about their experience or not\, they are supported. We kn
 ow first hand that sexual violence is a major link to trafficking and our 
 hope it to show survivors of sexual violence that there is a community of 
 support behind them.
X-WR-RELCALID:09279421fd489e4546f807e6d988523a
X-WR-TIMEZONE:America/Chicago
BEGIN:VTIMEZONE
TZID:America/Chicago
BEGIN:STANDARD
TZNAME:CST
DTSTART:20211107T020000
TZOFFSETFROM:-0500
TZOFFSETTO:-0600
RDATE:20221106T020000
END:STANDARD
BEGIN:DAYLIGHT
TZNAME:CDT
DTSTART:20210314T020000
TZOFFSETFROM:-0600
TZOFFSETTO:-0500
RDATE:20220313T020000
RDATE:20230312T020000
END:DAYLIGHT
END:VTIMEZONE
BEGIN:VEVENT
UID:5949075e-acca-411f-b176-fcf072497453
DTSTAMP:20260425T194357Z
DESCRIPTION:Disrupting Traffick is hosting a walk in Lincoln\, Nebraska on 
 November 13th at Auld Pavilion in Antelope Park at 10am called The Whole T
 ruth Gathering. \n\nWe invite survivors of sexual violence\, allies\, and 
 advocates to shed light on the ramifications of sexual violence in our com
 munity and are hoping to have as many people as possible at this event! Ou
 r heart behind this walk is to show survivors of sexual violence in our co
 mmunity that they have the support of Lincoln behind them. That collective
 ly\, their stories are believed and that whether they've taken the step to
  speak publicly about their experience or not\, they are supported. We kno
 w first hand that sexual violence is a major link to trafficking and our h
 ope it to show survivors of sexual violence that there is a community of s
 upport behind them.
DTSTART;TZID=America/Chicago:20211113T100000
DTEND;TZID=America/Chicago:20211113T120000
LOCATION:Antelope Park\, Auld Pavilion (Lincoln\, NE)
SUMMARY:The Whole Truth Walk: A Gathering to Honor True Testimonies of Surv
 ivors of Sexual Violence in Lincoln
END:VEVENT
END:VCALENDAR
