BEGIN:VCALENDAR
VERSION:2.0
PRODID:-//neconnectedyouth.org//NONSGML kigkonsult.se iCalcreator 2.30.10//
CALSCALE:GREGORIAN
METHOD:PUBLISH
UID:bdf3e2aa-3276-4db6-ad8b-98e76dd9dcd4
X-WR-CALDESC:Join us at MHDI's November Health Equity Speaker Series on 'Un
 derstanding Disparities in Healthcare Access and Use for Youth in Foster C
 are\,' presented by Sarah Beal.\n\nSarah Beal\, PhD\, is an associate prof
 essor in the division of behavioral medicine and clinical psychology at Ci
 ncinnati Children’s Hospital and in the Department of Pediatrics at the Un
 iversity of Cincinnati College of Medicine. She is also the scientific dir
 ector for the Comprehensive Health Evaluations for Cincinnati’s Kids (CHEC
 K) Foster Care Center at Cincinnati Children’s Hospital. Her research focu
 ses on the impact of child welfare and healthcare involvement on trajector
 ies of development and health for adolescents in foster care. She received
  her PhD in Developmental Psychology from the University of Nebraska-Linco
 ln. \n\nThe following event is FREE and OPEN to the public. We will be liv
 e streaming and recording the talk. You can register\, and receive the con
 nection information for this event or use the following Zoom link: https:/
 /unl.zoom.us/webinar/register/WN_tmjw0YxFTsy2NK7x-uRqyA.
X-WR-RELCALID:cc7ccd4a8a9d9ac4825bf56273100de6
X-WR-TIMEZONE:America/Chicago
BEGIN:VTIMEZONE
TZID:America/Chicago
BEGIN:STANDARD
TZNAME:CST
DTSTART:20211107T020000
TZOFFSETFROM:-0500
TZOFFSETTO:-0600
RDATE:20221106T020000
END:STANDARD
BEGIN:DAYLIGHT
TZNAME:CDT
DTSTART:20210314T020000
TZOFFSETFROM:-0600
TZOFFSETTO:-0500
RDATE:20220313T020000
RDATE:20230312T020000
END:DAYLIGHT
END:VTIMEZONE
BEGIN:VEVENT
UID:98050171-5062-4269-badb-45ca76ac7085
DTSTAMP:20260425T194311Z
DESCRIPTION:Join us at MHDI's November Health Equity Speaker Series on 'Und
 erstanding Disparities in Healthcare Access and Use for Youth in Foster Ca
 re\,' presented by Sarah Beal.\n\nSarah Beal\, PhD\, is an associate profe
 ssor in the division of behavioral medicine and clinical psychology at Cin
 cinnati Children’s Hospital and in the Department of Pediatrics at the Uni
 versity of Cincinnati College of Medicine. She is also the scientific dire
 ctor for the Comprehensive Health Evaluations for Cincinnati’s Kids (CHECK
 ) Foster Care Center at Cincinnati Children’s Hospital. Her research focus
 es on the impact of child welfare and healthcare involvement on trajectori
 es of development and health for adolescents in foster care. She received 
 her PhD in Developmental Psychology from the University of Nebraska-Lincol
 n. \n\nThe following event is FREE and OPEN to the public. We will be live
  streaming and recording the talk. You can register\, and receive the conn
 ection information for this event or use the following Zoom link: https://
 unl.zoom.us/webinar/register/WN_tmjw0YxFTsy2NK7x-uRqyA.
DTSTART;TZID=America/Chicago:20211118T130000
DTEND;TZID=America/Chicago:20211118T143000
LOCATION:Zoom
SUMMARY:Mental Health Disparities Initiative Health Equity Series: Understa
 nding Disparities in Healthcare Access for Youth in Foster Care
END:VEVENT
END:VCALENDAR
