BEGIN:VCALENDAR
VERSION:2.0
PRODID:-//neconnectedyouth.org//NONSGML kigkonsult.se iCalcreator 2.30.10//
CALSCALE:GREGORIAN
METHOD:PUBLISH
UID:a024e2c3-3ede-46cf-ae33-c4b6dd36fd90
X-WR-CALDESC:2022 Legislative Day is an opportunity for CYI young adult mem
 bers\, LEAP participants\, and adult supporters in Nebraska! Young adults 
 will learn about the legislative process\, give their opinion about curren
 t Nebraska legislation\, gain skills to change laws and policies based on 
 their lived experiences\, tour the state capitol\, build friendships\, and
  speak with Nebraska State Senators and the Governor.\n\nThere are prep se
 ssions for participants prior to Legislative Days that take places January
  17-27 to review bills introduced during the legislative session.\n\nEach 
 community is eligible to delegate 7 people to attend. To register\, contac
 t Lincoln Arneal at larneal@nebraskachildren.org.
X-WR-RELCALID:247408f087898bb398c170f84b5cb043
X-WR-TIMEZONE:America/Chicago
BEGIN:VTIMEZONE
TZID:America/Chicago
BEGIN:STANDARD
TZNAME:CST
DTSTART:20211107T020000
TZOFFSETFROM:-0500
TZOFFSETTO:-0600
RDATE:20221106T020000
END:STANDARD
BEGIN:DAYLIGHT
TZNAME:CDT
DTSTART:20210314T020000
TZOFFSETFROM:-0600
TZOFFSETTO:-0500
RDATE:20220313T020000
RDATE:20230312T020000
END:DAYLIGHT
END:VTIMEZONE
BEGIN:VEVENT
UID:901cc18a-c047-4d46-a8ae-2e40836d41ff
DTSTAMP:20260425T145801Z
DESCRIPTION:2022 Legislative Day is an opportunity for CYI young adult memb
 ers\, LEAP participants\, and adult supporters in Nebraska! Young adults w
 ill learn about the legislative process\, give their opinion about current
  Nebraska legislation\, gain skills to change laws and policies based on t
 heir lived experiences\, tour the state capitol\, build friendships\, and 
 speak with Nebraska State Senators and the Governor.\n\nThere are prep ses
 sions for participants prior to Legislative Days that take places January 
 17-27 to review bills introduced during the legislative session.\n\nEach c
 ommunity is eligible to delegate 7 people to attend. To register\, contact
  Lincoln Arneal at larneal@nebraskachildren.org.
DTSTART;TZID=America/Chicago:20220205T110000
DTEND;TZID=America/Chicago:20220207T140000
LOCATION:Carol Joy Holling Camp - 27416 Ranch Road\, Ashland NE & Nebraska 
 State Capitol Building
SUMMARY:Legislative Day 2022
END:VEVENT
END:VCALENDAR
