BEGIN:VCALENDAR
VERSION:2.0
PRODID:-//neconnectedyouth.org//NONSGML kigkonsult.se iCalcreator 2.30.10//
CALSCALE:GREGORIAN
METHOD:PUBLISH
UID:db7f40d8-f5e9-45c6-9f98-714586a3e832
X-WR-CALDESC:NCFF is hosting a roundtable discussion on March 10 at 5 p.m. 
 with young people ages 18-22 currently and previously system involved rega
 rding their educational experience. LaDonna Jones-Dunlap will lead the dis
 cussion to help guide the work at NCFF. Participation is possible in-perso
 n or remote. (Food will be provided to those in-person) The goal is to get
  a basic sense of the educational experience while they were placed outsid
 e the parental/guardian home with the additional hope of assisting future 
 work in these areas. RSVP to Brittney Williams at bwilliams@nebraskachildr
 en.org.
X-WR-RELCALID:9faebfe2f05a9d1ba53f06efae160f60
X-WR-TIMEZONE:America/Chicago
BEGIN:VTIMEZONE
TZID:America/Chicago
BEGIN:STANDARD
TZNAME:CST
DTSTART:20211107T020000
TZOFFSETFROM:-0500
TZOFFSETTO:-0600
RDATE:20221106T020000
END:STANDARD
BEGIN:DAYLIGHT
TZNAME:CDT
DTSTART:20210314T020000
TZOFFSETFROM:-0600
TZOFFSETTO:-0500
RDATE:20220313T020000
RDATE:20230312T020000
END:DAYLIGHT
END:VTIMEZONE
BEGIN:VEVENT
UID:8264b01c-abe4-4cae-b69c-ca1e8c8601a9
DTSTAMP:20260425T125304Z
DESCRIPTION:NCFF is hosting a roundtable discussion on March 10 at 5 p.m. w
 ith young people ages 18-22 currently and previously system involved regar
 ding their educational experience. LaDonna Jones-Dunlap will lead the disc
 ussion to help guide the work at NCFF. Participation is possible in-person
  or remote. (Food will be provided to those in-person) The goal is to get 
 a basic sense of the educational experience while they were placed outside
  the parental/guardian home with the additional hope of assisting future w
 ork in these areas. RSVP to Brittney Williams at bwilliams@nebraskachildre
 n.org.
DTSTART;TZID=America/Chicago:20220310T170000
DTEND;TZID=America/Chicago:20220310T183000
LOCATION:In-person at Project Everlast Omaha or remote via Zoom
SUMMARY:Nebraska Youth Young Adult Roundtable Discussion
END:VEVENT
END:VCALENDAR
