BEGIN:VCALENDAR
VERSION:2.0
PRODID:-//neconnectedyouth.org//NONSGML kigkonsult.se iCalcreator 2.30.10//
CALSCALE:GREGORIAN
METHOD:PUBLISH
UID:67cc8c3e-4fc7-4ee0-9c6c-53a10c376b3d
X-WR-CALDESC:National Town Hall event for young people to hear directly fro
 m Associate Children's Commissioner Schomburg & special guests to look bac
 k on the Administration’s accomplishments from their first year and to hea
 r more about strategic priorities for the coming year.
X-WR-RELCALID:730d807acfb68e43ac9e8eca2b29047c
X-WR-TIMEZONE:America/Chicago
BEGIN:VTIMEZONE
TZID:America/Chicago
BEGIN:STANDARD
TZNAME:CST
DTSTART:20211107T020000
TZOFFSETFROM:-0500
TZOFFSETTO:-0600
RDATE:20221106T020000
END:STANDARD
BEGIN:DAYLIGHT
TZNAME:CDT
DTSTART:20220313T020000
TZOFFSETFROM:-0600
TZOFFSETTO:-0500
RDATE:20230312T020000
END:DAYLIGHT
END:VTIMEZONE
BEGIN:VEVENT
UID:99e7f36b-5e71-4e24-bacd-684789079f52
DTSTAMP:20260425T131413Z
DESCRIPTION:National Town Hall event for young people to hear directly from
  Associate Children's Commissioner Schomburg & special guests to look back
  on the Administration’s accomplishments from their first year and to hear
  more about strategic priorities for the coming year.
DTSTART;TZID=America/Chicago:20220328T163000
DTEND;TZID=America/Chicago:20220328T173000
LOCATION:
SUMMARY:National Town Hall: Child Welfare Year in Review
END:VEVENT
END:VCALENDAR
