BEGIN:VCALENDAR
VERSION:2.0
PRODID:-//neconnectedyouth.org//NONSGML kigkonsult.se iCalcreator 2.30.10//
CALSCALE:GREGORIAN
METHOD:PUBLISH
UID:e0d35101-356e-462b-8e01-5d65e349873e
X-WR-CALDESC:The Nebraska Department of Education (NDE)\, in partnership wi
 th SchoolHouse Connection and Pearl Strategies\, will host a virtual schoo
 l-community partnership meet-and-greet to help support the development of 
 partnerships between districts and community-based organizations (CBOs) un
 der American Rescue Plan – Homeless Children and Youth (ARP-HCY) funds. \n
 \nDuring this session\, NDE\, SchoolHouse\, and Pearl will share about opp
 ortunities for school-CBO partnerships under ARP-HCY\, including through t
 he awarding of contracts\, to help identify students experiencing homeless
 ness and provide them with educational supports and wraparound services. 
 \n\nNebraska Community Collaborative Coordinators\, Central Navigators\, C
 YI Coaches\, and other community-based partners will learn about each othe
 r’s work and hear specific recommended next steps for growing mutually ben
 eficial partnerships in support of McKinney-Vento students in your communi
 ty. The session will be planned with interaction and engagement in mind an
 d will provide time for Q&A and discussion.\n\nPre-registration is require
 d for this Zoom meeting.\n
X-WR-RELCALID:b606afdc015af7a392914c9f5de4cac0
X-WR-TIMEZONE:America/Chicago
BEGIN:VTIMEZONE
TZID:America/Chicago
BEGIN:STANDARD
TZNAME:CST
DTSTART:20211107T020000
TZOFFSETFROM:-0500
TZOFFSETTO:-0600
RDATE:20221106T020000
END:STANDARD
BEGIN:DAYLIGHT
TZNAME:CDT
DTSTART:20220313T020000
TZOFFSETFROM:-0600
TZOFFSETTO:-0500
RDATE:20230312T020000
END:DAYLIGHT
END:VTIMEZONE
BEGIN:VEVENT
UID:43c3e298-3d31-444d-a773-a67a1ee877e4
DTSTAMP:20260425T125223Z
DESCRIPTION:The Nebraska Department of Education (NDE)\, in partnership wit
 h SchoolHouse Connection and Pearl Strategies\, will host a virtual school
 -community partnership meet-and-greet to help support the development of p
 artnerships between districts and community-based organizations (CBOs) und
 er American Rescue Plan – Homeless Children and Youth (ARP-HCY) funds. \n
 \nDuring this session\, NDE\, SchoolHouse\, and Pearl will share about opp
 ortunities for school-CBO partnerships under ARP-HCY\, including through t
 he awarding of contracts\, to help identify students experiencing homeless
 ness and provide them with educational supports and wraparound services. 
 \n\nNebraska Community Collaborative Coordinators\, Central Navigators\, C
 YI Coaches\, and other community-based partners will learn about each othe
 r’s work and hear specific recommended next steps for growing mutually ben
 eficial partnerships in support of McKinney-Vento students in your communi
 ty. The session will be planned with interaction and engagement in mind an
 d will provide time for Q&A and discussion.\n\nPre-registration is require
 d for this Zoom meeting.\n
DTSTART;TZID=America/Chicago:20220328T110000
DTEND;TZID=America/Chicago:20220328T120000
LOCATION:https://us02web.zoom.us/meeting/register/tZMucuGqqjMrHNApYqZcZb_Oi
 SiOK2N2keZL
SUMMARY:NE Dept. of Education American Rescue Plan Homeless Children and Yo
 uth Community Meet & Greet
END:VEVENT
END:VCALENDAR
