BEGIN:VCALENDAR
VERSION:2.0
PRODID:-//neconnectedyouth.org//NONSGML kigkonsult.se iCalcreator 2.30.10//
CALSCALE:GREGORIAN
METHOD:PUBLISH
UID:8e8903a5-7271-4151-8a7e-273ab164b4bb
X-WR-CALDESC:CYI learning network opportunity to hear from Lauren Micek Var
 gas\, Executive Director at the Educational Rights Counsel and Dr. Josh Cr
 amer\, Senior Vice President at Nebraska Children\, about student and scho
 ol rights and responsibilities that can benefit the youth served in Nebras
 ka’s Connected Youth Initiative (CYI) system and older youth programs to e
 nsure access to equitable education. \n\nThere are many educational servic
 es available to students in high school that we may not be aware of\, and 
 we would like to equip coaches and youth workers/practitioners with the kn
 owledge to help advocate for those student rights so that they can thrive 
 and succeed in school. \n\nThis informational session is open to CYI coach
 es\, case managers\, and CYI professional partners and will be held via Zo
 om. It will also be an opportunity for coaches and others to ask questions
  and provide feedback and information about how we can better support stud
 ents through CYI coaching/case management. \n
X-WR-RELCALID:8b7057bfd66720bec41038985c37678c
X-WR-TIMEZONE:America/Chicago
BEGIN:VTIMEZONE
TZID:America/Chicago
BEGIN:STANDARD
TZNAME:CST
DTSTART:20211107T020000
TZOFFSETFROM:-0500
TZOFFSETTO:-0600
RDATE:20221106T020000
END:STANDARD
BEGIN:DAYLIGHT
TZNAME:CDT
DTSTART:20220313T020000
TZOFFSETFROM:-0600
TZOFFSETTO:-0500
RDATE:20230312T020000
END:DAYLIGHT
END:VTIMEZONE
BEGIN:VEVENT
UID:f566125c-931c-4a1e-983c-408fbe0686d1
DTSTAMP:20260425T131016Z
DESCRIPTION:CYI learning network opportunity to hear from Lauren Micek Varg
 as\, Executive Director at the Educational Rights Counsel and Dr. Josh Cra
 mer\, Senior Vice President at Nebraska Children\, about student and schoo
 l rights and responsibilities that can benefit the youth served in Nebrask
 a’s Connected Youth Initiative (CYI) system and older youth programs to en
 sure access to equitable education. \n\nThere are many educational service
 s available to students in high school that we may not be aware of\, and w
 e would like to equip coaches and youth workers/practitioners with the kno
 wledge to help advocate for those student rights so that they can thrive a
 nd succeed in school. \n\nThis informational session is open to CYI coache
 s\, case managers\, and CYI professional partners and will be held via Zoo
 m. It will also be an opportunity for coaches and others to ask questions 
 and provide feedback and information about how we can better support stude
 nts through CYI coaching/case management. \n
DTSTART;TZID=America/Chicago:20220331T133000
DTEND;TZID=America/Chicago:20220331T150000
LOCATION:https://us06web.zoom.us/j/85968825724?pwd=djg3TDhqcEMwZkJGdy95QnpQ
 NlhFQT09
SUMMARY:Student Educational Rights Overview for CYI Coaches
END:VEVENT
END:VCALENDAR
