BEGIN:VCALENDAR
VERSION:2.0
PRODID:-//neconnectedyouth.org//NONSGML kigkonsult.se iCalcreator 2.30.10//
CALSCALE:GREGORIAN
METHOD:PUBLISH
UID:3cafb786-9d0d-4f85-b05c-c99cfec120b4
X-WR-CALDESC:Live Learning Session - one-hour long virtual event co-facilit
 ated by a team of survivor leaders who are experts in the anti-human traff
 icking movement. This session will provide an overview of the issue of hum
 an trafficking and information about how we can strategically and collecti
 vely combat it in the community.
X-WR-RELCALID:dc243431af8129324ade597041695fab
X-WR-TIMEZONE:America/Chicago
BEGIN:VTIMEZONE
TZID:America/Chicago
BEGIN:STANDARD
TZNAME:CST
DTSTART:20211107T020000
TZOFFSETFROM:-0500
TZOFFSETTO:-0600
RDATE:20221106T020000
END:STANDARD
BEGIN:DAYLIGHT
TZNAME:CDT
DTSTART:20220313T020000
TZOFFSETFROM:-0600
TZOFFSETTO:-0500
RDATE:20230312T020000
END:DAYLIGHT
END:VTIMEZONE
BEGIN:VEVENT
UID:b2e0ff60-7aa6-47de-a32a-266b6c402e9a
DTSTAMP:20260425T111841Z
DESCRIPTION:Live Learning Session - one-hour long virtual event co-facilita
 ted by a team of survivor leaders who are experts in the anti-human traffi
 cking movement. This session will provide an overview of the issue of huma
 n trafficking and information about how we can strategically and collectiv
 ely combat it in the community.
DTSTART;TZID=America/Chicago:20220405T130000
DTEND;TZID=America/Chicago:20220405T140000
LOCATION:
SUMMARY:Understanding Human Trafficking: The Intersections & Complexities
END:VEVENT
END:VCALENDAR
