BEGIN:VCALENDAR
VERSION:2.0
PRODID:-//neconnectedyouth.org//NONSGML kigkonsult.se iCalcreator 2.30.10//
CALSCALE:GREGORIAN
METHOD:PUBLISH
UID:64870210-29a1-4eb4-aaa5-d388466618a1
X-WR-CALDESC:Weekly Build Back Better Implementation Meeting: Every Wednesd
 ay at 1-2pm Eastern. If\, fingers crossed\, BBB makes it across the finish
  line there will be substantial funding that can be used to support Opport
 unity Youth. Passing will be just the first step in our work. We then have
  to make sure it gets implemented in ways that serve Opportunity Youth wel
 l. So far\, our discussions have focused on implementation of the Civilian
  Climate Corps in ways that ensure a significant portion of corps-members 
 are Opportunity Youth\, but over time we will cover implementation of othe
 r aspects of the bill as well\, such as funding that goes to the Departmen
 t of Labor for job training programs for youth.
X-WR-RELCALID:08313b7267f546ac6ae7c2d819219df6
X-WR-TIMEZONE:America/Chicago
BEGIN:VTIMEZONE
TZID:America/Chicago
BEGIN:STANDARD
TZNAME:CST
DTSTART:20211107T020000
TZOFFSETFROM:-0500
TZOFFSETTO:-0600
RDATE:20221106T020000
END:STANDARD
BEGIN:DAYLIGHT
TZNAME:CDT
DTSTART:20220313T020000
TZOFFSETFROM:-0600
TZOFFSETTO:-0500
RDATE:20230312T020000
END:DAYLIGHT
END:VTIMEZONE
BEGIN:VEVENT
UID:d6e841f5-d222-4787-9774-4637270e1c64
DTSTAMP:20260425T110855Z
DESCRIPTION:Weekly Build Back Better Implementation Meeting: Every Wednesda
 y at 1-2pm Eastern. If\, fingers crossed\, BBB makes it across the finish 
 line there will be substantial funding that can be used to support Opportu
 nity Youth. Passing will be just the first step in our work. We then have 
 to make sure it gets implemented in ways that serve Opportunity Youth well
 . So far\, our discussions have focused on implementation of the Civilian 
 Climate Corps in ways that ensure a significant portion of corps-members a
 re Opportunity Youth\, but over time we will cover implementation of other
  aspects of the bill as well\, such as funding that goes to the Department
  of Labor for job training programs for youth.
DTSTART;TZID=America/Chicago:20220420T120000
DTEND;TZID=America/Chicago:20220420T130000
LOCATION:Virtual
SUMMARY:National Youth Employment Coalition (NYEC): Weekly Build Back Bette
 r Implementation Meeting
END:VEVENT
END:VCALENDAR
