BEGIN:VCALENDAR
VERSION:2.0
PRODID:-//neconnectedyouth.org//NONSGML kigkonsult.se iCalcreator 2.30.10//
CALSCALE:GREGORIAN
METHOD:PUBLISH
UID:f2c2aa31-86b1-4053-b84f-ef8f4ccb5afc
X-WR-CALDESC:Overview of the Youth and Families Thrive Protective and Promo
 tive Factors: Resilience\, Social Connections\, Concrete Supports\, Knowle
 dge of Development\, and Social Emotional Competence.
X-WR-RELCALID:f96205167fc7e19c2aee9526c44ff1a3
X-WR-TIMEZONE:America/Chicago
BEGIN:VTIMEZONE
TZID:America/Chicago
BEGIN:STANDARD
TZNAME:CST
DTSTART:20211107T020000
TZOFFSETFROM:-0500
TZOFFSETTO:-0600
RDATE:20221106T020000
END:STANDARD
BEGIN:DAYLIGHT
TZNAME:CDT
DTSTART:20220313T020000
TZOFFSETFROM:-0600
TZOFFSETTO:-0500
RDATE:20230312T020000
END:DAYLIGHT
END:VTIMEZONE
BEGIN:VEVENT
UID:50e6feec-5a8b-4428-b602-0b6c8b37f39c
DTSTAMP:20260425T110134Z
DESCRIPTION:Overview of the Youth and Families Thrive Protective and Promot
 ive Factors: Resilience\, Social Connections\, Concrete Supports\, Knowled
 ge of Development\, and Social Emotional Competence.
DTSTART;TZID=America/Chicago:20220426T110000
DTEND;TZID=America/Chicago:20220426T130000
LOCATION:Virtual
SUMMARY:Nebraska Protective & Promotive Factor Training
END:VEVENT
END:VCALENDAR
