BEGIN:VCALENDAR
VERSION:2.0
PRODID:-//neconnectedyouth.org//NONSGML kigkonsult.se iCalcreator 2.30.10//
CALSCALE:GREGORIAN
METHOD:PUBLISH
UID:9cbeac6e-068e-4ffc-99bd-bf7fb9bf6e0d
X-WR-CALDESC:Save the Date!\n\nJoin CIP in Kearney\, Nebraska at the Younes
  Conference Center for the 2022 Children's Summit. \n\nKeynote\, breakout 
 sessions and registration information will be added as it becomes availabl
 e.
X-WR-RELCALID:b8d8edd569001ddfadc9e9c497302936
X-WR-TIMEZONE:America/Chicago
BEGIN:VTIMEZONE
TZID:America/Chicago
BEGIN:STANDARD
TZNAME:CST
DTSTART:20211107T020000
TZOFFSETFROM:-0500
TZOFFSETTO:-0600
RDATE:20221106T020000
RDATE:20231105T020000
END:STANDARD
BEGIN:DAYLIGHT
TZNAME:CDT
DTSTART:20220313T020000
TZOFFSETFROM:-0600
TZOFFSETTO:-0500
RDATE:20230312T020000
RDATE:20240310T020000
END:DAYLIGHT
END:VTIMEZONE
BEGIN:VEVENT
UID:5aaa9050-a784-49c1-8af0-ae62764031f1
DTSTAMP:20260425T023846Z
DESCRIPTION:Save the Date!\n\nJoin CIP in Kearney\, Nebraska at the Younes 
 Conference Center for the 2022 Children's Summit. \n\nKeynote\, breakout s
 essions and registration information will be added as it becomes available
 .
DTSTART;TZID=America/Chicago:20220913T080000
DTEND;TZID=America/Chicago:20220914T153000
LOCATION:
SUMMARY:2022 Nebraska Court Improvement Project Children's Summit
END:VEVENT
END:VCALENDAR
