BEGIN:VCALENDAR
VERSION:2.0
PRODID:-//neconnectedyouth.org//NONSGML kigkonsult.se iCalcreator 2.30.10//
CALSCALE:GREGORIAN
METHOD:PUBLISH
UID:e47e56c8-083f-41b5-a6ac-84763a2e8c8c
X-WR-CALDESC:
X-WR-RELCALID:850bbe86965c840a20947753651c8728
X-WR-TIMEZONE:America/Chicago
BEGIN:VTIMEZONE
TZID:America/Chicago
BEGIN:STANDARD
TZNAME:CST
DTSTART:20211107T020000
TZOFFSETFROM:-0500
TZOFFSETTO:-0600
RDATE:20221106T020000
RDATE:20231105T020000
END:STANDARD
BEGIN:DAYLIGHT
TZNAME:CDT
DTSTART:20220313T020000
TZOFFSETFROM:-0600
TZOFFSETTO:-0500
RDATE:20230312T020000
RDATE:20240310T020000
END:DAYLIGHT
END:VTIMEZONE
BEGIN:VEVENT
UID:8dcf0244-5af6-4874-a4ed-86d0a3e77395
DTSTAMP:20260425T023733Z
DESCRIPTION:
DTSTART;TZID=America/Chicago:20220922T183000
DTEND;TZID=America/Chicago:20220922T193000
LOCATION:https://actionnetwork.org/events/oyu-academy-presents-oyuvotes-com
 munity-action-team-voter-engagement-spotlight?source=direct_link&
SUMMARY:OYUVotes: Community Action Team Voter Engagement Session
END:VEVENT
END:VCALENDAR
