BEGIN:VCALENDAR
VERSION:2.0
PRODID:-//neconnectedyouth.org//NONSGML kigkonsult.se iCalcreator 2.30.10//
CALSCALE:GREGORIAN
METHOD:PUBLISH
UID:9be53aee-ee7e-4cac-9ced-0502c884d7b4
X-WR-CALDESC:Guest speakers will include the Honorable Vernon Daniels\, Sep
 arate Juvenile Court (Omaha) and Stuart White\, Ph.D.
X-WR-RELCALID:e959513b58cd35bc2d0b3aca28cf0d46
X-WR-TIMEZONE:America/Chicago
BEGIN:VTIMEZONE
TZID:America/Chicago
BEGIN:STANDARD
TZNAME:CST
DTSTART:20211107T020000
TZOFFSETFROM:-0500
TZOFFSETTO:-0600
RDATE:20221106T020000
RDATE:20231105T020000
END:STANDARD
BEGIN:DAYLIGHT
TZNAME:CDT
DTSTART:20220313T020000
TZOFFSETFROM:-0600
TZOFFSETTO:-0500
RDATE:20230312T020000
RDATE:20240310T020000
END:DAYLIGHT
END:VTIMEZONE
BEGIN:VEVENT
UID:0748a981-ef1e-48d5-a119-268484025300
DTSTAMP:20260425T023606Z
DESCRIPTION:Guest speakers will include the Honorable Vernon Daniels\, Sepa
 rate Juvenile Court (Omaha) and Stuart White\, Ph.D.
DTSTART;TZID=America/Chicago:20220922T093000
DTEND;TZID=America/Chicago:20220922T153000
LOCATION:Barbara Weitz Community Engagement Center (UNO)\, 6400 University 
 Drive\, Omaha\, NE 68132 US
SUMMARY:Rule 18/Special Purpose Professional Development Day
END:VEVENT
END:VCALENDAR
