BEGIN:VCALENDAR
VERSION:2.0
PRODID:-//neconnectedyouth.org//NONSGML kigkonsult.se iCalcreator 2.30.10//
CALSCALE:GREGORIAN
METHOD:PUBLISH
UID:e40d7240-681b-4747-8e11-9e9736c053ad
X-WR-CALDESC:Save the Date for the 2022 Justice & BH Conference!\n\nThis ye
 ar’s conference features A Shared Vision with Problem-Solving Courts. Nebr
 aska Probation and Problem-Solving Courts promote constructive change thro
 ugh rehabilitation\, collaboration\, and partnership in order to enhance s
 afe communities.\n\nThis conference presents an opportunity to learn more 
 about:\nWorking Within Multi-Disciplinary Teams\nSubstance Use and Mental 
 Health Treatment\nEmerging Drug Trends\nIndividualized Programming\nDue Pr
 ocess\nEquity and Inclusion \nMore information will be forthcoming.
X-WR-RELCALID:81360c75570fd6313f1b7df3e068b6b6
X-WR-TIMEZONE:America/Chicago
BEGIN:VTIMEZONE
TZID:America/Chicago
BEGIN:STANDARD
TZNAME:CST
DTSTART:20211107T020000
TZOFFSETFROM:-0500
TZOFFSETTO:-0600
RDATE:20221106T020000
RDATE:20231105T020000
END:STANDARD
BEGIN:DAYLIGHT
TZNAME:CDT
DTSTART:20220313T020000
TZOFFSETFROM:-0600
TZOFFSETTO:-0500
RDATE:20230312T020000
RDATE:20240310T020000
END:DAYLIGHT
END:VTIMEZONE
BEGIN:VEVENT
UID:d1985651-f80d-401c-b4e2-cc3808731494
DTSTAMP:20260425T023722Z
DESCRIPTION:Save the Date for the 2022 Justice & BH Conference!\n\nThis yea
 r’s conference features A Shared Vision with Problem-Solving Courts. Nebra
 ska Probation and Problem-Solving Courts promote constructive change throu
 gh rehabilitation\, collaboration\, and partnership in order to enhance sa
 fe communities.\n\nThis conference presents an opportunity to learn more a
 bout:\nWorking Within Multi-Disciplinary Teams\nSubstance Use and Mental H
 ealth Treatment\nEmerging Drug Trends\nIndividualized Programming\nDue Pro
 cess\nEquity and Inclusion \nMore information will be forthcoming.
DTSTART;TZID=America/Chicago:20220928T080000
DTEND;TZID=America/Chicago:20220930T160000
LOCATION:
SUMMARY:2022 Justice and Behavioral Health Conference
END:VEVENT
END:VCALENDAR
