BEGIN:VCALENDAR
VERSION:2.0
PRODID:-//neconnectedyouth.org//NONSGML kigkonsult.se iCalcreator 2.30.10//
CALSCALE:GREGORIAN
METHOD:PUBLISH
UID:4aaace1a-82f5-4667-a93a-2894ad18d19a
X-WR-CALDESC:Join us to learn more about a Nebraska VR tournament - with pr
 ize money - and a chance to participate in the international SDG Metaverse
  Prize. In Nebraska\, we are focusing on creating tools for the next gener
 ation of coaching\, making VR resources available to young people to boost
  their coaching experience.
X-WR-RELCALID:a4e9fbb6005e4b2771e042198026e8cb
X-WR-TIMEZONE:America/Chicago
BEGIN:VTIMEZONE
TZID:America/Chicago
BEGIN:STANDARD
TZNAME:CST
DTSTART:20211107T020000
TZOFFSETFROM:-0500
TZOFFSETTO:-0600
RDATE:20221106T020000
RDATE:20231105T020000
END:STANDARD
BEGIN:DAYLIGHT
TZNAME:CDT
DTSTART:20220313T020000
TZOFFSETFROM:-0600
TZOFFSETTO:-0500
RDATE:20230312T020000
RDATE:20240310T020000
END:DAYLIGHT
END:VTIMEZONE
BEGIN:VEVENT
UID:0b4b79d2-c0f0-4688-b724-140228d5ed8a
DTSTAMP:20260425T010549Z
DESCRIPTION:Join us to learn more about a Nebraska VR tournament - with pri
 ze money - and a chance to participate in the international SDG Metaverse 
 Prize. In Nebraska\, we are focusing on creating tools for the next genera
 tion of coaching\, making VR resources available to young people to boost 
 their coaching experience.
DTSTART;TZID=America/Chicago:20221011T150000
DTEND;TZID=America/Chicago:20221011T170000
LOCATION:Hastings Public Library\, 314 N Denver Ave\, Hastings\, NE 68901 U
 S
SUMMARY:HASTINGS: Virtual Reality TOYS – Transforming Older Youth Systems
END:VEVENT
END:VCALENDAR
