BEGIN:VCALENDAR
VERSION:2.0
PRODID:-//neconnectedyouth.org//NONSGML kigkonsult.se iCalcreator 2.30.10//
CALSCALE:GREGORIAN
METHOD:PUBLISH
UID:0d92c83b-7032-48f4-a118-9bb29136bfd6
X-WR-CALDESC:This training is an overview of the promotive and protective f
 actors: Resilience\,\nSocial Connections\, Concrete Supports\, Knowledge o
 f Parenting and Child and\nAdolescent Development\, and Social Emotional C
 ompetence. Participants will\ngain an understanding of each promotive and 
 protective factor and the importance\nof the promotive and protective fact
 ors in child\, youth\, family and community\nwellbeing.
X-WR-RELCALID:4fe1d3fbcd89e5b79da60fd295fde257
X-WR-TIMEZONE:America/Chicago
BEGIN:VTIMEZONE
TZID:America/Chicago
BEGIN:STANDARD
TZNAME:CST
DTSTART:20211107T020000
TZOFFSETFROM:-0500
TZOFFSETTO:-0600
RDATE:20221106T020000
RDATE:20231105T020000
END:STANDARD
BEGIN:DAYLIGHT
TZNAME:CDT
DTSTART:20220313T020000
TZOFFSETFROM:-0600
TZOFFSETTO:-0500
RDATE:20230312T020000
RDATE:20240310T020000
END:DAYLIGHT
END:VTIMEZONE
BEGIN:VEVENT
UID:ed4f1a1d-fd2b-45bd-8fdb-103fb7216579
DTSTAMP:20260425T005720Z
DESCRIPTION:This training is an overview of the promotive and protective fa
 ctors: Resilience\,\nSocial Connections\, Concrete Supports\, Knowledge of
  Parenting and Child and\nAdolescent Development\, and Social Emotional Co
 mpetence. Participants will\ngain an understanding of each promotive and p
 rotective factor and the importance\nof the promotive and protective facto
 rs in child\, youth\, family and community\nwellbeing.
DTSTART;TZID=America/Chicago:20221020T110000
DTEND;TZID=America/Chicago:20221020T130000
LOCATION:Virtual
SUMMARY:Youth and Families Thrive Nebraska Training
END:VEVENT
END:VCALENDAR
