BEGIN:VCALENDAR
VERSION:2.0
PRODID:-//neconnectedyouth.org//NONSGML kigkonsult.se iCalcreator 2.30.10//
CALSCALE:GREGORIAN
METHOD:PUBLISH
UID:324b5efe-93e8-4bfe-9c3f-fc62ce6fed7e
X-WR-CALDESC:This Nebraska Department of Education webinar\, offered in par
 tnership with Pearl Strategies and SchoolHouse Connection\, will provide a
  brief summary of the educational rights and supports available to student
 s experiencing homelessness and will feature a panel of Nebraska students 
 with lived experience of homelessness.\n\nPearl Strategies will 'frame the
  session' with a brief overview of the McKinney-Vento Act. Then\, the Nebr
 aska Children and Families Foundation Connected Youth Initiative will host
  a panel of three Nebraska youth who have experienced homelessness and yet
  demonstrated remarkable resilience and persistence\, including along thei
 r educational journey. Hear directly from students about their educational
  experiences and their recommendations to schools and service providers on
  how better to meet the needs of students experiencing homelessness.\n\nDo
 n't miss this opportunity to see the power of education come to life throu
 gh the voices of students.
X-WR-RELCALID:408fd17de0020c1edd16adb0df4eaa4e
X-WR-TIMEZONE:America/Chicago
BEGIN:VTIMEZONE
TZID:America/Chicago
BEGIN:STANDARD
TZNAME:CST
DTSTART:20211107T020000
TZOFFSETFROM:-0500
TZOFFSETTO:-0600
RDATE:20221106T020000
RDATE:20231105T020000
END:STANDARD
BEGIN:DAYLIGHT
TZNAME:CDT
DTSTART:20220313T020000
TZOFFSETFROM:-0600
TZOFFSETTO:-0500
RDATE:20230312T020000
RDATE:20240310T020000
END:DAYLIGHT
END:VTIMEZONE
BEGIN:VEVENT
UID:e2acef39-4ef0-4e8a-971a-f48a7e945a80
DTSTAMP:20260425T004849Z
DESCRIPTION:This Nebraska Department of Education webinar\, offered in part
 nership with Pearl Strategies and SchoolHouse Connection\, will provide a 
 brief summary of the educational rights and supports available to students
  experiencing homelessness and will feature a panel of Nebraska students w
 ith lived experience of homelessness.\n\nPearl Strategies will 'frame the 
 session' with a brief overview of the McKinney-Vento Act. Then\, the Nebra
 ska Children and Families Foundation Connected Youth Initiative will host 
 a panel of three Nebraska youth who have experienced homelessness and yet 
 demonstrated remarkable resilience and persistence\, including along their
  educational journey. Hear directly from students about their educational 
 experiences and their recommendations to schools and service providers on 
 how better to meet the needs of students experiencing homelessness.\n\nDon
 't miss this opportunity to see the power of education come to life throug
 h the voices of students.
DTSTART;TZID=America/Chicago:20221026T100000
DTEND;TZID=America/Chicago:20221026T113000
LOCATION:Virtual
SUMMARY:Paving the Way to Education for Students Experiencing Homelessness
END:VEVENT
END:VCALENDAR
