BEGIN:VCALENDAR
VERSION:2.0
PRODID:-//neconnectedyouth.org//NONSGML kigkonsult.se iCalcreator 2.30.10//
CALSCALE:GREGORIAN
METHOD:PUBLISH
UID:42e30da2-6267-45da-a189-97661044e474
X-WR-CALDESC:This is an interim study on the cost\, benefits and possibilit
 ies of covering the full cost of attendance for foster youth at postsecond
 ary schools in Nebraska.
X-WR-RELCALID:742b6dd47902e333b50ec1634927e9db
X-WR-TIMEZONE:America/Chicago
BEGIN:VTIMEZONE
TZID:America/Chicago
BEGIN:STANDARD
TZNAME:CST
DTSTART:20211107T020000
TZOFFSETFROM:-0500
TZOFFSETTO:-0600
RDATE:20221106T020000
RDATE:20231105T020000
END:STANDARD
BEGIN:DAYLIGHT
TZNAME:CDT
DTSTART:20220313T020000
TZOFFSETFROM:-0600
TZOFFSETTO:-0500
RDATE:20230312T020000
RDATE:20240310T020000
END:DAYLIGHT
END:VTIMEZONE
BEGIN:VEVENT
UID:a2047168-1433-47b2-b64e-90ba6886519e
DTSTAMP:20260425T005314Z
DESCRIPTION:This is an interim study on the cost\, benefits and possibiliti
 es of covering the full cost of attendance for foster youth at postseconda
 ry schools in Nebraska.
DTSTART;TZID=America/Chicago:20221028T100000
DTEND;TZID=America/Chicago:20221028T110000
LOCATION:
SUMMARY:LR 354 Hearing
END:VEVENT
END:VCALENDAR
