BEGIN:VCALENDAR
VERSION:2.0
PRODID:-//neconnectedyouth.org//NONSGML kigkonsult.se iCalcreator 2.30.10//
CALSCALE:GREGORIAN
METHOD:PUBLISH
UID:53ae5c32-7146-4de8-b5b7-2864f12a0978
X-WR-CALDESC:Please join the Nebraska Café where we will provide a platform
  for families to communicate\, network\, be heard and learn from others ac
 ross the state.   Families will be empowered to be change-makers in their 
 schools and communities.  Join us for our next Nebraska Café November 1st 
 from 7 p.m.-8 p.m. via zoom.  Please visit the following link for any ques
 tions regarding the Nebraska café including more café dates.  \n\n
X-WR-RELCALID:07ea80d9902ff98374524e010b6fa5b5
X-WR-TIMEZONE:America/Chicago
BEGIN:VTIMEZONE
TZID:America/Chicago
BEGIN:STANDARD
TZNAME:CST
DTSTART:20211107T020000
TZOFFSETFROM:-0500
TZOFFSETTO:-0600
RDATE:20221106T020000
RDATE:20231105T020000
END:STANDARD
BEGIN:DAYLIGHT
TZNAME:CDT
DTSTART:20220313T020000
TZOFFSETFROM:-0600
TZOFFSETTO:-0500
RDATE:20230312T020000
RDATE:20240310T020000
END:DAYLIGHT
END:VTIMEZONE
BEGIN:VEVENT
UID:9f88d4db-afde-40e9-8076-be0c720741ec
DTSTAMP:20260424T231309Z
DESCRIPTION:Please join the Nebraska Café where we will provide a platform 
 for families to communicate\, network\, be heard and learn from others acr
 oss the state.   Families will be empowered to be change-makers in their s
 chools and communities.  Join us for our next Nebraska Café November 1st f
 rom 7 p.m.-8 p.m. via zoom.  Please visit the following link for any quest
 ions regarding the Nebraska café including more café dates.  \n\n
DTSTART;TZID=America/Chicago:20221101T190000
DTEND;TZID=America/Chicago:20221101T200000
LOCATION:Zoom
SUMMARY:Nebraska Cafe
END:VEVENT
END:VCALENDAR
