BEGIN:VCALENDAR
VERSION:2.0
PRODID:-//neconnectedyouth.org//NONSGML kigkonsult.se iCalcreator 2.30.10//
CALSCALE:GREGORIAN
METHOD:PUBLISH
UID:759f87bf-3b95-48cb-9f0f-304c9f90c376
X-WR-CALDESC:No single system is able to meet all the needs of children\, y
 outh\, and families experiencing homelessness. Join the Nebraska Departmen
 t of Education\, Pearl Strategies\, and SchoolHouse Connection to explore 
 how school and community partners can work together in a mutually benefici
 al manner to meet the housing\, education\, and supportive service needs o
 f children\, youth\, and families experiencing homelessness. Learn the fou
 r key steps included in Pearl Strategies' 'partnership starter pack' and h
 ear from Nebraska school and community partner panelists about successful 
 partnerships they've built that are making a difference in the lives of st
 udents and families experiencing homelessness.
X-WR-RELCALID:4152d1aceb0994931fd907bb4f2159fd
X-WR-TIMEZONE:America/Chicago
BEGIN:VTIMEZONE
TZID:America/Chicago
BEGIN:STANDARD
TZNAME:CST
DTSTART:20211107T020000
TZOFFSETFROM:-0500
TZOFFSETTO:-0600
RDATE:20221106T020000
RDATE:20231105T020000
END:STANDARD
BEGIN:DAYLIGHT
TZNAME:CDT
DTSTART:20220313T020000
TZOFFSETFROM:-0600
TZOFFSETTO:-0500
RDATE:20230312T020000
RDATE:20240310T020000
END:DAYLIGHT
END:VTIMEZONE
BEGIN:VEVENT
UID:398ae3e5-a7c3-4778-aefa-23051705da4a
DTSTAMP:20260424T230536Z
DESCRIPTION:No single system is able to meet all the needs of children\, yo
 uth\, and families experiencing homelessness. Join the Nebraska Department
  of Education\, Pearl Strategies\, and SchoolHouse Connection to explore h
 ow school and community partners can work together in a mutually beneficia
 l manner to meet the housing\, education\, and supportive service needs of
  children\, youth\, and families experiencing homelessness. Learn the four
  key steps included in Pearl Strategies' 'partnership starter pack' and he
 ar from Nebraska school and community partner panelists about successful p
 artnerships they've built that are making a difference in the lives of stu
 dents and families experiencing homelessness.
DTSTART;TZID=America/Chicago:20221103T140000
DTEND;TZID=America/Chicago:20221103T153000
LOCATION:Virtual
SUMMARY:Webinar: School-Community Partnerships: Working Together to Meet th
 e Needs of Nebraska's Children\, Youth\, and Families Experiencing Homeles
 sness
END:VEVENT
END:VCALENDAR
