BEGIN:VCALENDAR
VERSION:2.0
PRODID:-//neconnectedyouth.org//NONSGML kigkonsult.se iCalcreator 2.30.10//
CALSCALE:GREGORIAN
METHOD:PUBLISH
UID:54655fde-b347-4ea2-8201-6917576c0f64
X-WR-CALDESC:Join us to learn more about a Nebraska VR tournament - with pr
 ize money - and a chance to participate in the international SDG Metaverse
  Prize. In Nebraska\, we are focusing on creating tools for the next gener
 ation of coaching\, making VR resources available to young people to boost
  their coaching experience.
X-WR-RELCALID:32b21da4a310e6f9a93296e6a42e5d27
X-WR-TIMEZONE:America/Chicago
BEGIN:VTIMEZONE
TZID:America/Chicago
BEGIN:STANDARD
TZNAME:CST
DTSTART:20221106T020000
TZOFFSETFROM:-0500
TZOFFSETTO:-0600
RDATE:20231105T020000
END:STANDARD
BEGIN:DAYLIGHT
TZNAME:CDT
DTSTART:20220313T020000
TZOFFSETFROM:-0600
TZOFFSETTO:-0500
RDATE:20230312T020000
RDATE:20240310T020000
END:DAYLIGHT
END:VTIMEZONE
BEGIN:VEVENT
UID:c5085016-2ef5-46a8-aeda-377444f2073d
DTSTAMP:20260424T231525Z
DESCRIPTION:Join us to learn more about a Nebraska VR tournament - with pri
 ze money - and a chance to participate in the international SDG Metaverse 
 Prize. In Nebraska\, we are focusing on creating tools for the next genera
 tion of coaching\, making VR resources available to young people to boost 
 their coaching experience.
DTSTART;TZID=America/Chicago:20221108T130000
DTEND;TZID=America/Chicago:20221108T160000
LOCATION:Hanny Arram Center for Success \, 3907 6th Ave\, Kearney\, NE 6884
 5 US
SUMMARY:KEARNEY: Virtual Reality TOYS – Transforming Older Youth Systems
END:VEVENT
END:VCALENDAR
