BEGIN:VCALENDAR
VERSION:2.0
PRODID:-//neconnectedyouth.org//NONSGML kigkonsult.se iCalcreator 2.30.10//
CALSCALE:GREGORIAN
METHOD:PUBLISH
UID:f55cad4d-78ea-4d4a-bf19-2306855640d4
X-WR-CALDESC:Join the Nebraska Department of Education\, Pearl Strategies\,
  and SchoolHouse Connection for an American Rescue Plan-Homeless Children 
 and Youth (ARP-HCY) funds 'status check'. The American Rescue Plan Act app
 ropriated $800\,000\,000 specifically to help schools support students exp
 eriencing homelessness. This session will provide a quick refresher on ARP
 -HCY basics (authorizing statute\, purposes\, allowable expenses\, timelin
 es) and important updates from NDE on funds administration\, data collecti
 on and reporting\, and monitoring. We'll also explore how work initiated u
 sing ARP-HCY funds might be sustained after the ARP-HCY funds have been sp
 ent. Time will be provided for Q&A and discussion.
X-WR-RELCALID:8d2433cdc2dd32dccd16eb01b7ecbec9
X-WR-TIMEZONE:America/Chicago
BEGIN:VTIMEZONE
TZID:America/Chicago
BEGIN:STANDARD
TZNAME:CST
DTSTART:20221106T020000
TZOFFSETFROM:-0500
TZOFFSETTO:-0600
RDATE:20231105T020000
END:STANDARD
BEGIN:DAYLIGHT
TZNAME:CDT
DTSTART:20220313T020000
TZOFFSETFROM:-0600
TZOFFSETTO:-0500
RDATE:20230312T020000
RDATE:20240310T020000
END:DAYLIGHT
END:VTIMEZONE
BEGIN:VEVENT
UID:54d32518-4fae-47e6-9670-a337b2cccb16
DTSTAMP:20260424T231608Z
DESCRIPTION:Join the Nebraska Department of Education\, Pearl Strategies\, 
 and SchoolHouse Connection for an American Rescue Plan-Homeless Children a
 nd Youth (ARP-HCY) funds 'status check'. The American Rescue Plan Act appr
 opriated $800\,000\,000 specifically to help schools support students expe
 riencing homelessness. This session will provide a quick refresher on ARP-
 HCY basics (authorizing statute\, purposes\, allowable expenses\, timeline
 s) and important updates from NDE on funds administration\, data collectio
 n and reporting\, and monitoring. We'll also explore how work initiated us
 ing ARP-HCY funds might be sustained after the ARP-HCY funds have been spe
 nt. Time will be provided for Q&A and discussion.
DTSTART;TZID=America/Chicago:20221110T130000
DTEND;TZID=America/Chicago:20221110T143000
LOCATION:Virtual
SUMMARY:Nebraska American Rescue Plan-Homeless Children and Youth (ARP-HCY)
  Funding Status Check
END:VEVENT
END:VCALENDAR
