BEGIN:VCALENDAR
VERSION:2.0
PRODID:-//neconnectedyouth.org//NONSGML kigkonsult.se iCalcreator 2.30.10//
CALSCALE:GREGORIAN
METHOD:PUBLISH
UID:d4fb8e9b-f699-49da-9529-aa044d00206f
X-WR-CALDESC:Interested in exploring Virtual Reality as a means of betterin
 g the world - especially for those with systems experience?\n\nJoin us to 
 learn more about a Nebraska tournament - with prize money - and a chance t
 o participate in the international SDG Metaverse Prize. In Nebraska\, we a
 re focusing on creating tools for the next generation of coaching\, making
  VR resources available to young people to boost their coaching experience
 .\n\nForm a team\, choose a design goal\, and pitch your idea during the S
 tatewide Zoom Convening on November 18th\, where you’ll learn more about t
 he project\, training\, and community. If your team’s project is selected\
 , you and your teammates will receive Oculus 2 Headsets and begin training
  with the Nebraska Exponential Destiny Team. Teams can be 2-5 people of ag
 es 14 and up – no computer or coding experience needed\, just a willingnes
 s to create and collaborate.
X-WR-RELCALID:72113d9041defab14e26ae54d29a3d27
X-WR-TIMEZONE:America/Chicago
BEGIN:VTIMEZONE
TZID:America/Chicago
BEGIN:STANDARD
TZNAME:CST
DTSTART:20221106T020000
TZOFFSETFROM:-0500
TZOFFSETTO:-0600
RDATE:20231105T020000
END:STANDARD
BEGIN:DAYLIGHT
TZNAME:CDT
DTSTART:20220313T020000
TZOFFSETFROM:-0600
TZOFFSETTO:-0500
RDATE:20230312T020000
RDATE:20240310T020000
END:DAYLIGHT
END:VTIMEZONE
BEGIN:VEVENT
UID:a8d386d1-7c3b-40be-94fe-c74bb43648ba
DTSTAMP:20260424T225814Z
DESCRIPTION:Interested in exploring Virtual Reality as a means of bettering
  the world - especially for those with systems experience?\n\nJoin us to l
 earn more about a Nebraska tournament - with prize money - and a chance to
  participate in the international SDG Metaverse Prize. In Nebraska\, we ar
 e focusing on creating tools for the next generation of coaching\, making 
 VR resources available to young people to boost their coaching experience.
 \n\nForm a team\, choose a design goal\, and pitch your idea during the St
 atewide Zoom Convening on November 18th\, where you’ll learn more about th
 e project\, training\, and community. If your team’s project is selected\,
  you and your teammates will receive Oculus 2 Headsets and begin training 
 with the Nebraska Exponential Destiny Team. Teams can be 2-5 people of age
 s 14 and up – no computer or coding experience needed\, just a willingness
  to create and collaborate.
DTSTART;TZID=America/Chicago:20221118T140000
DTEND;TZID=America/Chicago:20221118T160000
LOCATION:Once you register\, you will receive an email with the link
SUMMARY:ZOOM: VR TOYS Convening
END:VEVENT
END:VCALENDAR
