BEGIN:VCALENDAR
VERSION:2.0
PRODID:-//neconnectedyouth.org//NONSGML kigkonsult.se iCalcreator 2.30.10//
CALSCALE:GREGORIAN
METHOD:PUBLISH
UID:428314e7-4f62-43a5-b604-c1af0133a504
X-WR-CALDESC:This training is an overview of the promotive and protective f
 actors: Resilience\,\nSocial Connections\, Concrete Supports\, Knowledge o
 f Parenting and Child and\nAdolescent Development\, and Social Emotional C
 ompetence. Participants will\ngain an understanding of each promotive and 
 protective factor and the importance\nof the promotive and protective fact
 ors in child\, youth\, family and community\nwellbeing.
X-WR-RELCALID:ccc7b9c4b142827a5104de8872d413c0
X-WR-TIMEZONE:America/Chicago
BEGIN:VTIMEZONE
TZID:America/Chicago
BEGIN:STANDARD
TZNAME:CST
DTSTART:20221106T020000
TZOFFSETFROM:-0500
TZOFFSETTO:-0600
RDATE:20231105T020000
END:STANDARD
BEGIN:DAYLIGHT
TZNAME:CDT
DTSTART:20220313T020000
TZOFFSETFROM:-0600
TZOFFSETTO:-0500
RDATE:20230312T020000
RDATE:20240310T020000
END:DAYLIGHT
END:VTIMEZONE
BEGIN:VEVENT
UID:5ea9475b-f69b-4e95-8032-b431594b3743
DTSTAMP:20260424T211152Z
DESCRIPTION:This training is an overview of the promotive and protective fa
 ctors: Resilience\,\nSocial Connections\, Concrete Supports\, Knowledge of
  Parenting and Child and\nAdolescent Development\, and Social Emotional Co
 mpetence. Participants will\ngain an understanding of each promotive and p
 rotective factor and the importance\nof the promotive and protective facto
 rs in child\, youth\, family and community\nwellbeing.
DTSTART;TZID=America/Chicago:20221220T110000
DTEND;TZID=America/Chicago:20221220T130000
LOCATION:Virtual
SUMMARY:Youth and Families Thrive Nebraska Training
END:VEVENT
END:VCALENDAR
