BEGIN:VCALENDAR
VERSION:2.0
PRODID:-//neconnectedyouth.org//NONSGML kigkonsult.se iCalcreator 2.30.10//
CALSCALE:GREGORIAN
METHOD:PUBLISH
UID:124dfef0-f8cc-47b5-a29f-71722203138e
X-WR-CALDESC:Douglas County's Juvenile Justice Initiative is hosting a Reso
 urce Fair for Youth and Families on Saturday\, February 4\, from 10 a.m. t
 o 2 p.m. at the Center Mall\, 1941 S. 42nd St.\, on the 2nd floor. This is
  a free event where youth and families are invited to come and gather info
 rmation and visit directly with providers about the programs and services 
 available to them such as mental health\, education\, family empowerment\,
  and at-risk youth. Register to win a $25 Hy-Vee gift card!
X-WR-RELCALID:7392debc650e80acf7f8b6586a68c0fc
X-WR-TIMEZONE:America/Chicago
BEGIN:VTIMEZONE
TZID:America/Chicago
BEGIN:STANDARD
TZNAME:CST
DTSTART:20221106T020000
TZOFFSETFROM:-0500
TZOFFSETTO:-0600
RDATE:20231105T020000
END:STANDARD
BEGIN:DAYLIGHT
TZNAME:CDT
DTSTART:20220313T020000
TZOFFSETFROM:-0600
TZOFFSETTO:-0500
RDATE:20230312T020000
RDATE:20240310T020000
END:DAYLIGHT
END:VTIMEZONE
BEGIN:VEVENT
UID:111b0dfc-20ab-4a43-862b-9d92ee597c73
DTSTAMP:20260424T175406Z
DESCRIPTION:Douglas County's Juvenile Justice Initiative is hosting a Resou
 rce Fair for Youth and Families on Saturday\, February 4\, from 10 a.m. to
  2 p.m. at the Center Mall\, 1941 S. 42nd St.\, on the 2nd floor. This is 
 a free event where youth and families are invited to come and gather infor
 mation and visit directly with providers about the programs and services a
 vailable to them such as mental health\, education\, family empowerment\, 
 and at-risk youth. Register to win a $25 Hy-Vee gift card!
DTSTART;TZID=America/Chicago:20230204T100000
DTEND;TZID=America/Chicago:20230204T140000
LOCATION:Center Mall\, 1941 S 42nd Street (2nd floor)\, Omaha NE
SUMMARY:Omaha Resource Fair
END:VEVENT
END:VCALENDAR
