BEGIN:VCALENDAR
VERSION:2.0
PRODID:-//neconnectedyouth.org//NONSGML kigkonsult.se iCalcreator 2.30.10//
CALSCALE:GREGORIAN
METHOD:PUBLISH
UID:bf4eb853-6a88-4091-abd1-a8d0cdc91125
X-WR-CALDESC:Youth Impact of Douglas County is hosting its annual stakehold
 er meeting Wednesday\, Feb. 8 from 5-6:30 p.m. The meeting is open to part
 ner agencies and anyone interested in learning more about Youth Impact! Th
 e meeting will be at Project Harmony\, 11949 Q St. Omaha\, NE 68137. For q
 uestions\, please contact Nick Juliano at Nick.Juliano@RadiusOmaha.org or 
 402-618-6900.
X-WR-RELCALID:e0cf55a798ea71ae659be6cb023434d8
X-WR-TIMEZONE:America/Chicago
BEGIN:VTIMEZONE
TZID:America/Chicago
BEGIN:STANDARD
TZNAME:CST
DTSTART:20221106T020000
TZOFFSETFROM:-0500
TZOFFSETTO:-0600
RDATE:20231105T020000
END:STANDARD
BEGIN:DAYLIGHT
TZNAME:CDT
DTSTART:20220313T020000
TZOFFSETFROM:-0600
TZOFFSETTO:-0500
RDATE:20230312T020000
RDATE:20240310T020000
END:DAYLIGHT
END:VTIMEZONE
BEGIN:VEVENT
UID:8dbbd5d7-b1b8-478c-b7a7-33abdf9bf781
DTSTAMP:20260424T175836Z
DESCRIPTION:Youth Impact of Douglas County is hosting its annual stakeholde
 r meeting Wednesday\, Feb. 8 from 5-6:30 p.m. The meeting is open to partn
 er agencies and anyone interested in learning more about Youth Impact! The
  meeting will be at Project Harmony\, 11949 Q St. Omaha\, NE 68137. For qu
 estions\, please contact Nick Juliano at Nick.Juliano@RadiusOmaha.org or 4
 02-618-6900.
DTSTART;TZID=America/Chicago:20230208T170000
DTEND;TZID=America/Chicago:20230208T183000
LOCATION:Project Harmony - 11949 Q Street\, Omaha NE
SUMMARY:Youth Impact! Annual Stakeholder Meeting
END:VEVENT
END:VCALENDAR
