BEGIN:VCALENDAR
VERSION:2.0
PRODID:-//neconnectedyouth.org//NONSGML kigkonsult.se iCalcreator 2.30.10//
CALSCALE:GREGORIAN
METHOD:PUBLISH
UID:99b274e0-aa7b-4524-8bf7-b41f7574bca7
X-WR-CALDESC:NJJA is hosting a webinar on Compassion Fatigue: Drawing From 
 An Empty Well Too Many Times. They will talk about what are some of the sy
 mptoms of compassion fatigue - emotionally and physically\, and more impor
 tantly\, how we can come out of it! The session is scheduled for February 
 15 from noon-1 p.m. Central. If you have any questions about registering\,
  please email christybeckman@outlook.com
X-WR-RELCALID:9bf6cc454d089127e2eec901ff199d5f
X-WR-TIMEZONE:America/Chicago
BEGIN:VTIMEZONE
TZID:America/Chicago
BEGIN:STANDARD
TZNAME:CST
DTSTART:20221106T020000
TZOFFSETFROM:-0500
TZOFFSETTO:-0600
RDATE:20231105T020000
END:STANDARD
BEGIN:DAYLIGHT
TZNAME:CDT
DTSTART:20220313T020000
TZOFFSETFROM:-0600
TZOFFSETTO:-0500
RDATE:20230312T020000
RDATE:20240310T020000
END:DAYLIGHT
END:VTIMEZONE
BEGIN:VEVENT
UID:b90193ff-6a3e-4f6b-b625-385638135229
DTSTAMP:20260424T175819Z
DESCRIPTION:NJJA is hosting a webinar on Compassion Fatigue: Drawing From A
 n Empty Well Too Many Times. They will talk about what are some of the sym
 ptoms of compassion fatigue - emotionally and physically\, and more import
 antly\, how we can come out of it! The session is scheduled for February 1
 5 from noon-1 p.m. Central. If you have any questions about registering\, 
 please email christybeckman@outlook.com
DTSTART;TZID=America/Chicago:20230215T120000
DTEND;TZID=America/Chicago:20230215T130000
LOCATION:
SUMMARY:Compassion Fatigue: Drawing From An Empty Well Too Many Times
END:VEVENT
END:VCALENDAR
