BEGIN:VCALENDAR
VERSION:2.0
PRODID:-//neconnectedyouth.org//NONSGML kigkonsult.se iCalcreator 2.30.10//
CALSCALE:GREGORIAN
METHOD:PUBLISH
UID:a467229d-c529-43c6-8ed1-566a54ad3774
X-WR-CALDESC:Nebraska’s Expanded Learning Opportunities – Innovation Invita
 tional is scheduled from March 7-9 at UNL Innovation Campus. The conferenc
 e will include hands-on immersive learning experiences aimed at youth deve
 lopment professionals\, policymakers\, and other stakeholders interested i
 n out-of-school time programs and youth development. A draft agenda is att
 ached and will be updated on the website closer to the conference.
X-WR-RELCALID:9f004434ec2984693e8055d3d3c74cb0
X-WR-TIMEZONE:America/Chicago
BEGIN:VTIMEZONE
TZID:America/Chicago
BEGIN:STANDARD
TZNAME:CST
DTSTART:20221106T020000
TZOFFSETFROM:-0500
TZOFFSETTO:-0600
RDATE:20231105T020000
END:STANDARD
BEGIN:DAYLIGHT
TZNAME:CDT
DTSTART:20220313T020000
TZOFFSETFROM:-0600
TZOFFSETTO:-0500
RDATE:20230312T020000
RDATE:20240310T020000
END:DAYLIGHT
END:VTIMEZONE
BEGIN:VEVENT
UID:5544eb5d-d71e-492a-913c-cbe707492806
DTSTAMP:20260424T194436Z
DESCRIPTION:Nebraska’s Expanded Learning Opportunities – Innovation Invitat
 ional is scheduled from March 7-9 at UNL Innovation Campus. The conference
  will include hands-on immersive learning experiences aimed at youth devel
 opment professionals\, policymakers\, and other stakeholders interested in
  out-of-school time programs and youth development. A draft agenda is atta
 ched and will be updated on the website closer to the conference.
DTSTART;TZID=America/Chicago:20230307T000000
DTEND;TZID=America/Chicago:20230309T235900
LOCATION:UNL Innovation Campus
SUMMARY:Nebraska's Expanded Learning Opportunities Innovation Invitational
END:VEVENT
END:VCALENDAR
