BEGIN:VCALENDAR
VERSION:2.0
PRODID:-//neconnectedyouth.org//NONSGML kigkonsult.se iCalcreator 2.30.10//
CALSCALE:GREGORIAN
METHOD:PUBLISH
UID:f212faab-055c-4e11-b28f-c1cd739bb5e8
X-WR-CALDESC:Annual conference promoting strong mental health services in N
 ebraska schools.
X-WR-RELCALID:6f53ea52d600a305f6fca3e612806105
X-WR-TIMEZONE:America/Chicago
BEGIN:VTIMEZONE
TZID:America/Chicago
BEGIN:STANDARD
TZNAME:CST
DTSTART:20221106T020000
TZOFFSETFROM:-0500
TZOFFSETTO:-0600
RDATE:20231105T020000
RDATE:20241103T020000
END:STANDARD
BEGIN:DAYLIGHT
TZNAME:CDT
DTSTART:20230312T020000
TZOFFSETFROM:-0600
TZOFFSETTO:-0500
RDATE:20240310T020000
END:DAYLIGHT
END:VTIMEZONE
BEGIN:VEVENT
UID:7d97e6b5-339d-4d21-b90e-fb8a0d928abe
DTSTAMP:20260425T004310Z
DESCRIPTION:Annual conference promoting strong mental health services in Ne
 braska schools.
DTSTART;TZID=America/Chicago:20230607T000000
DTEND;TZID=America/Chicago:20230608T235900
LOCATION:Kearney\, NE
SUMMARY:Nebraska School Mental Health Conference
END:VEVENT
END:VCALENDAR
