BEGIN:VCALENDAR
VERSION:2.0
PRODID:-//neconnectedyouth.org//NONSGML kigkonsult.se iCalcreator 2.30.10//
CALSCALE:GREGORIAN
METHOD:PUBLISH
UID:f755dea7-ef8c-4774-a7e7-acee59091a77
X-WR-CALDESC:
X-WR-RELCALID:8cfe2242e2ae00aa057eb13ab09740e4
X-WR-TIMEZONE:America/Chicago
BEGIN:VTIMEZONE
TZID:America/Chicago
BEGIN:STANDARD
TZNAME:CST
DTSTART:20221106T020000
TZOFFSETFROM:-0500
TZOFFSETTO:-0600
RDATE:20231105T020000
RDATE:20241103T020000
END:STANDARD
BEGIN:DAYLIGHT
TZNAME:CDT
DTSTART:20230312T020000
TZOFFSETFROM:-0600
TZOFFSETTO:-0500
RDATE:20240310T020000
END:DAYLIGHT
END:VTIMEZONE
BEGIN:VEVENT
UID:4294f976-5216-4a5e-9eee-5217aec1aa8d
DTSTAMP:20260425T003614Z
DESCRIPTION:
DTSTART;TZID=America/Chicago:20230608T000000
DTEND;TZID=America/Chicago:20230611T235900
LOCATION:Camp Moses Merrill\, Linwood NE
SUMMARY:Camp Catch-Up 2023
END:VEVENT
END:VCALENDAR
