BEGIN:VCALENDAR
VERSION:2.0
PRODID:-//neconnectedyouth.org//NONSGML kigkonsult.se iCalcreator 2.30.10//
CALSCALE:GREGORIAN
METHOD:PUBLISH
UID:d4ac508e-af8b-47dc-8550-dabe4bff1d9c
X-WR-CALDESC:
X-WR-RELCALID:3e622091a9294831afc240692f65942b
X-WR-TIMEZONE:America/Chicago
BEGIN:VTIMEZONE
TZID:America/Chicago
BEGIN:STANDARD
TZNAME:CST
DTSTART:20221106T020000
TZOFFSETFROM:-0500
TZOFFSETTO:-0600
RDATE:20231105T020000
RDATE:20241103T020000
END:STANDARD
BEGIN:DAYLIGHT
TZNAME:CDT
DTSTART:20230312T020000
TZOFFSETFROM:-0600
TZOFFSETTO:-0500
RDATE:20240310T020000
END:DAYLIGHT
END:VTIMEZONE
BEGIN:VEVENT
UID:3cd5b95c-4907-4a15-854c-8ede729ce63a
DTSTAMP:20260425T021610Z
DESCRIPTION:
DTSTART;TZID=America/Chicago:20230706T000000
DTEND;TZID=America/Chicago:20230709T235900
LOCATION:Camp Comeca\, Cozad NE
SUMMARY:Camp Catch-Up 2023
END:VEVENT
END:VCALENDAR
