BEGIN:VCALENDAR
VERSION:2.0
PRODID:-//neconnectedyouth.org//NONSGML kigkonsult.se iCalcreator 2.30.10//
CALSCALE:GREGORIAN
METHOD:PUBLISH
UID:ea45778d-9ac7-47e4-83ab-04ff09830209
X-WR-CALDESC:Legislative Days is a learning and advocacy opportunity for CY
 I young adult members\, LEAP participants\, and adult supporters in Nebras
 ka! Young adults will learn about the legislative process\, give their opi
 nion about current Nebraska legislation\, gain skills to change laws and p
 olicies based on their lived experiences\, tour the state capitol\, build 
 friendships\, and speak with Nebraska State Senators and the Governor.\n\n
 Each community is eligible to delegate 7 people to attend.
X-WR-RELCALID:d4baf216b4d3dd82a8ac230b670d9b2d
X-WR-TIMEZONE:America/Chicago
BEGIN:VTIMEZONE
TZID:America/Chicago
BEGIN:STANDARD
TZNAME:CST
DTSTART:20231105T020000
TZOFFSETFROM:-0500
TZOFFSETTO:-0600
RDATE:20241103T020000
END:STANDARD
BEGIN:DAYLIGHT
TZNAME:CDT
DTSTART:20230312T020000
TZOFFSETFROM:-0600
TZOFFSETTO:-0500
RDATE:20240310T020000
RDATE:20250309T020000
END:DAYLIGHT
END:VTIMEZONE
BEGIN:VEVENT
UID:ef7cd264-8d84-4ab4-99ae-99eafcf9b079
DTSTAMP:20260425T143316Z
DESCRIPTION:Legislative Days is a learning and advocacy opportunity for CYI
  young adult members\, LEAP participants\, and adult supporters in Nebrask
 a! Young adults will learn about the legislative process\, give their opin
 ion about current Nebraska legislation\, gain skills to change laws and po
 licies based on their lived experiences\, tour the state capitol\, build f
 riendships\, and speak with Nebraska State Senators and the Governor.\n\nE
 ach community is eligible to delegate 7 people to attend.
DTSTART;TZID=America/Chicago:20240203T110000
DTEND;TZID=America/Chicago:20240205T140000
LOCATION:Carol Joy Holling Camp - 27416 Ranch Road\, Ashland NE & Nebraska 
 State Capitol Building
SUMMARY:Legislative Days 2024
END:VEVENT
END:VCALENDAR
